BEGIN:VCALENDAR
VERSION:2.0
PRODID:-//Sabre//Sabre VObject 4.5.8//EN
CALSCALE:GREGORIAN
BEGIN:VEVENT
UID:sabre-vobject-ff09c028-74bf-4ded-a19e-70f24518bdfb
DTSTAMP:20260421T100342Z
SUMMARY:CYS Skating Through the Decades
DESCRIPTION:
X-ALT-DESC:FMTTYPE=text/html:<!DOCTYPE HTML PUBLIC "-//W3C//DTD HTML 3.2//E
 N"><HTML></HTML>
CREATED;TZID=America/Chicago:20200121T091849
URL;VALUE=URI:https://polk.armymwr.com/calendar/event
DTSTART;TZID=America/Chicago:20200229T153000
DTEND;TZID=America/Chicago:20200229T183000
SEQUENCE:0
END:VEVENT
END:VCALENDAR
