BEGIN:VCALENDAR
VERSION:2.0
PRODID:-//Sabre//Sabre VObject 4.5.8//EN
CALSCALE:GREGORIAN
BEGIN:VEVENT
UID:sabre-vobject-3999c0b0-d466-476c-b8f1-f42bdefab8d0
DTSTAMP:20260420T224052Z
SUMMARY:BOSS Indoor Skydiving Trip
DESCRIPTION:
X-ALT-DESC:FMTTYPE=text/html:<!DOCTYPE HTML PUBLIC "-//W3C//DTD HTML 3.2//E
 N"><HTML></HTML>
CREATED;TZID=America/Chicago:20200108T140638
URL;VALUE=URI:https://polk.armymwr.com/calendar/event
DTSTART;TZID=America/Chicago:20200307T140000
DTEND;TZID=America/Chicago:20200307T150000
SEQUENCE:0
END:VEVENT
END:VCALENDAR
