BEGIN:VCALENDAR
VERSION:2.0
PRODID:-//Sabre//Sabre VObject 4.5.8//EN
CALSCALE:GREGORIAN
BEGIN:VEVENT
UID:sabre-vobject-c96c60dc-f1a0-4b4e-b6c8-58aef49ffc7e
DTSTAMP:20260420T224050Z
SUMMARY:Luck of the Spin at Wheelock Fitness Center
DESCRIPTION:
X-ALT-DESC:FMTTYPE=text/html:<!DOCTYPE HTML PUBLIC "-//W3C//DTD HTML 3.2//E
 N"><HTML></HTML>
CREATED;TZID=America/Chicago:20200108T120110
URL;VALUE=URI:https://polk.armymwr.com/calendar/event
DTSTART;TZID=America/Chicago:20200315T170000
DTEND;TZID=America/Chicago:20200315T180000
SEQUENCE:0
END:VEVENT
END:VCALENDAR
