BEGIN:VCALENDAR
VERSION:2.0
PRODID:-//Sabre//Sabre VObject 4.5.8//EN
CALSCALE:GREGORIAN
BEGIN:VEVENT
UID:sabre-vobject-cc77200b-ca68-4fdb-96f1-5578d9ade5d3
DTSTAMP:20260421T225338Z
SUMMARY:Story Time & A Movie
DESCRIPTION:&quot\;Winnie the Pooh&quot\;\n
X-ALT-DESC:FMTTYPE=text/html:<!DOCTYPE HTML PUBLIC "-//W3C//DTD HTML 3.2//E
 N"><HTML><p>&quot\;Winnie the Pooh&quot\;</p>\n</HTML>
CREATED;TZID=America/Chicago:20191213T074118
URL;VALUE=URI:https://polk.armymwr.com/calendar/event
DTSTART;TZID=America/Chicago:20200211T170000
DTEND;TZID=America/Chicago:20200211T180000
SEQUENCE:0
END:VEVENT
END:VCALENDAR
