BEGIN:VCALENDAR
VERSION:2.0
PRODID:-//Sabre//Sabre VObject 4.5.8//EN
CALSCALE:GREGORIAN
BEGIN:VEVENT
UID:sabre-vobject-6a407ff6-7ff1-4084-b04e-6f48a4dcdfe6
DTSTAMP:20260424T082237Z
SUMMARY:Skeet Competition
DESCRIPTION:
X-ALT-DESC:FMTTYPE=text/html:<!DOCTYPE HTML PUBLIC "-//W3C//DTD HTML 3.2//E
 N"><HTML></HTML>
CREATED;TZID=America/Chicago:20191031T133637
URL;VALUE=URI:https://polk.armymwr.com/calendar/event
DTSTART;TZID=America/Chicago:20191214T120000
DTEND;TZID=America/Chicago:20191214T130000
SEQUENCE:0
END:VEVENT
END:VCALENDAR
