BEGIN:VCALENDAR
VERSION:2.0
PRODID:-//Sabre//Sabre VObject 4.5.8//EN
CALSCALE:GREGORIAN
BEGIN:VEVENT
UID:sabre-vobject-e7e0930e-64d2-4a99-ac88-fa824a8bacd1
DTSTAMP:20260426T014549Z
SUMMARY:MWR Movie Night
DESCRIPTION:
X-ALT-DESC:FMTTYPE=text/html:<!DOCTYPE HTML PUBLIC "-//W3C//DTD HTML 3.2//E
 N"><HTML></HTML>
CREATED;TZID=America/Chicago:20191022T081317
URL;VALUE=URI:https://polk.armymwr.com/calendar/event
DTSTART;TZID=America/Chicago:20191116T190000
DTEND;TZID=America/Chicago:20191116T200000
SEQUENCE:0
END:VEVENT
END:VCALENDAR
